BEGIN:VCALENDAR
PRODID:-//Microsoft Corporation//Outlook 12.0 MIMEDIR//EN
VERSION:2.0
CALSCALE:GREGORIAN
BEGIN:VEVENT
UID: bb68c174-ae00-43ad-9172-521fe8c0b15e
SUMMARY:Sõbrapäeva stiilinädal
DTSTAMP:20260209T080000
DTSTART:20260209T080000
DTEND:20260213T160000
LOCATION:
DESCRIPTION: <p><strong>Link: </strong>https://www.audru.edu.ee/et/sundmuste-kalender/sobrapaeva-stiilinadal</p><p><strong>Hind: </strong></p>
STATUS:CONFIRMED
SEQUENCE:3
X-ALT-DESC;FMTTYPE=text/html:<p><strong>Link: </strong>https://www.audru.edu.ee/et/sundmuste-kalender/sobrapaeva-stiilinadal</p><p><strong>Hind: </strong></p>
X-MICROSOFT-CDO-BUSYSTATUS:OOF
X-MICROSOFT-CDO-IMPORTANCE:1
X-MICROSOFT-DISALLOW-COUNTER:FALSE
X-MS-OLK-ALLOWEXTERNCHECK:TRUE
X-MS-OLK-CONFTYPE:0
X-MICROSOFT-CDO-ALLDAYEVENT:
X-MICROSOFT-MSNCALENDAR-ALLDAYEVENT:
END:VEVENT
END:VCALENDAR